BEGIN:VCALENDAR
VERSION:2.0
PRODID:-//Abiqua Heights - ECPv6.15.20//NONSGML v1.0//EN
CALSCALE:GREGORIAN
METHOD:PUBLISH
X-ORIGINAL-URL:https://www.abiquaheights.com
X-WR-CALDESC:Events for Abiqua Heights
REFRESH-INTERVAL;VALUE=DURATION:PT1H
X-Robots-Tag:noindex
X-PUBLISHED-TTL:PT1H
BEGIN:VTIMEZONE
TZID:America/Los_Angeles
BEGIN:DAYLIGHT
TZOFFSETFROM:-0800
TZOFFSETTO:-0700
TZNAME:PDT
DTSTART:20170312T100000
END:DAYLIGHT
BEGIN:STANDARD
TZOFFSETFROM:-0700
TZOFFSETTO:-0800
TZNAME:PST
DTSTART:20171105T090000
END:STANDARD
BEGIN:DAYLIGHT
TZOFFSETFROM:-0800
TZOFFSETTO:-0700
TZNAME:PDT
DTSTART:20180311T100000
END:DAYLIGHT
BEGIN:STANDARD
TZOFFSETFROM:-0700
TZOFFSETTO:-0800
TZNAME:PST
DTSTART:20181104T090000
END:STANDARD
BEGIN:DAYLIGHT
TZOFFSETFROM:-0800
TZOFFSETTO:-0700
TZNAME:PDT
DTSTART:20190310T100000
END:DAYLIGHT
BEGIN:STANDARD
TZOFFSETFROM:-0700
TZOFFSETTO:-0800
TZNAME:PST
DTSTART:20191103T090000
END:STANDARD
BEGIN:DAYLIGHT
TZOFFSETFROM:-0800
TZOFFSETTO:-0700
TZNAME:PDT
DTSTART:20200308T100000
END:DAYLIGHT
BEGIN:STANDARD
TZOFFSETFROM:-0700
TZOFFSETTO:-0800
TZNAME:PST
DTSTART:20201101T090000
END:STANDARD
END:VTIMEZONE
BEGIN:VEVENT
DTSTART;TZID=America/Los_Angeles:20190618T190000
DTEND;TZID=America/Los_Angeles:20190618T200000
DTSTAMP:20260424T035101
CREATED:20190521T040713Z
LAST-MODIFIED:20190521T040713Z
UID:2118-1560884400-1560888000@www.abiquaheights.com
SUMMARY:ARC Meeting - June 18\, 2019
DESCRIPTION:The next scheduled meeting of the Architectural Review Committee (ARC) will be June 18\, 2019 at 7 PM.  The meeting will be held at 1115 Skookum Drive.
URL:https://www.abiquaheights.com/event/arc-meeting-june-18-2019/
END:VEVENT
BEGIN:VEVENT
DTSTART;TZID=America/Los_Angeles:20190615T143000
DTEND;TZID=America/Los_Angeles:20190615T193000
DTSTAMP:20260424T035101
CREATED:20190615T041334Z
LAST-MODIFIED:20190615T041334Z
UID:2137-1560609000-1560627000@www.abiquaheights.com
SUMMARY:Special Use of the Commons - End of the Season Team Party - June 15\, 2019
DESCRIPTION:End of thew Year Soccer Team Party.
URL:https://www.abiquaheights.com/event/special-use-of-the-commons-end-of-the-season-team-party-june-15-2019/
END:VEVENT
BEGIN:VEVENT
DTSTART;TZID=America/Los_Angeles:20190613T170000
DTEND;TZID=America/Los_Angeles:20190613T180000
DTSTAMP:20260424T035101
CREATED:20190610T072924Z
LAST-MODIFIED:20190610T072924Z
UID:2133-1560445200-1560448800@www.abiquaheights.com
SUMMARY:AHHA Board Meeting - June 13\, 2019
DESCRIPTION:AHHA Board meeting will be held at 645 Shelokum Drive.  Meeting begins at 5 PM.  Agenda is short.
URL:https://www.abiquaheights.com/event/ahha-board-meeting-june-13-2019/
END:VEVENT
BEGIN:VEVENT
DTSTART;TZID=America/Los_Angeles:20190609T153000
DTEND;TZID=America/Los_Angeles:20190609T193000
DTSTAMP:20260424T035101
CREATED:20190521T035946Z
LAST-MODIFIED:20190521T035946Z
UID:2116-1560094200-1560108600@www.abiquaheights.com
SUMMARY:Special Use of the Commons - End of Year Soccer Club Party
DESCRIPTION:End of the year party for the Silver Falls Soccer Club Team.
URL:https://www.abiquaheights.com/event/special-use-of-the-commons-end-of-year-soccer-club-party/
END:VEVENT
BEGIN:VEVENT
DTSTART;TZID=America/Los_Angeles:20190608T093000
DTEND;TZID=America/Los_Angeles:20190608T133000
DTSTAMP:20260424T035101
CREATED:20190521T035708Z
LAST-MODIFIED:20190521T035708Z
UID:2114-1559986200-1560000600@www.abiquaheights.com
SUMMARY:Special Use of the Commons - Birthday Party
DESCRIPTION:Birthday Party for a child\, 5 years old.  Includes “jumping house.”
URL:https://www.abiquaheights.com/event/special-use-of-the-commons-birthday-party-2/
END:VEVENT
BEGIN:VEVENT
DTSTART;TZID=America/Los_Angeles:20190509T170000
DTEND;TZID=America/Los_Angeles:20190509T180000
DTSTAMP:20260424T035101
CREATED:20190411T063510Z
LAST-MODIFIED:20190411T063510Z
UID:2092-1557421200-1557424800@www.abiquaheights.com
SUMMARY:AHHA Board Meeting - May 9\, 2019
DESCRIPTION:The AHHA Board Meeting will be held at the first Christian Church in Silverton.  The meting will begin at 5 PM with a members’ open forum.
URL:https://www.abiquaheights.com/event/ahha-board-meeting-may-9-2019/
END:VEVENT
BEGIN:VEVENT
DTSTART;TZID=America/Los_Angeles:20190507T190000
DTEND;TZID=America/Los_Angeles:20190507T200000
DTSTAMP:20260424T035101
CREATED:20190411T063216Z
LAST-MODIFIED:20190411T063216Z
UID:2090-1557255600-1557259200@www.abiquaheights.com
SUMMARY:ARC Meeting - May 7\, 2019
DESCRIPTION:The monthly meeting of the Architectural Review Committee will be held May 7\, 2019 at 7 PM.  The meeting will be at 1115 Skookum Drive.
URL:https://www.abiquaheights.com/event/arc-meeting-may-7-2019/
END:VEVENT
BEGIN:VEVENT
DTSTART;TZID=America/Los_Angeles:20190420T100000
DTEND;TZID=America/Los_Angeles:20190420T110000
DTSTAMP:20260424T035101
CREATED:20190411T062900Z
LAST-MODIFIED:20190411T062900Z
UID:2088-1555754400-1555758000@www.abiquaheights.com
SUMMARY:Friends of Abiqua Heights Easter Egg Hunt
DESCRIPTION:The Egg Hunt will begin at exactly 10 AM in the Abiqua Heights Commons.  There will be a separate area for smaller children.  Refreshments and photo ops are available.  All are invited.
URL:https://www.abiquaheights.com/event/friends-of-abiqua-heights-easter-egg-hunt/
END:VEVENT
BEGIN:VEVENT
DTSTART;TZID=America/Los_Angeles:20190411T170000
DTEND;TZID=America/Los_Angeles:20190411T180000
DTSTAMP:20260424T035101
CREATED:20190411T062603Z
LAST-MODIFIED:20190411T062603Z
UID:2086-1555002000-1555005600@www.abiquaheights.com
SUMMARY:AHHA Board Meeting - April 11\, 2019
DESCRIPTION:AHHA Board Meeting will be held at the First Christian Church in Silverton.  The meeting starts at 5:00 PM with an open forum for members.
URL:https://www.abiquaheights.com/event/ahha-board-meeting-april-11-2019/
END:VEVENT
BEGIN:VEVENT
DTSTART;TZID=America/Los_Angeles:20190314T170000
DTEND;TZID=America/Los_Angeles:20190314T180000
DTSTAMP:20260424T035101
CREATED:20190313T070806Z
LAST-MODIFIED:20190313T070806Z
UID:2070-1552582800-1552586400@www.abiquaheights.com
SUMMARY:AHHA Board Meeting - March 14\, 2019
DESCRIPTION:AHHA Board meeting will be held at the First Christian Church in Silverton.  The meeting will begin at 5 PM.
URL:https://www.abiquaheights.com/event/ahha-board-meeting-march-14-2019/
END:VEVENT
BEGIN:VEVENT
DTSTART;TZID=America/Los_Angeles:20190110T170000
DTEND;TZID=America/Los_Angeles:20190110T180000
DTSTAMP:20260424T035101
CREATED:20190108T184943Z
LAST-MODIFIED:20190108T184943Z
UID:2029-1547139600-1547143200@www.abiquaheights.com
SUMMARY:AHHA Board Meeting - January 10\, 2018
DESCRIPTION:AHHA Board meeting for January 2019 will be held January 10\, 2019 at 5:00 PM.  The meeting will be held at the First Christian Church\, 402 1st Street\, Silverton\, OR 97381.
URL:https://www.abiquaheights.com/event/ahha-board-meeting-january-10-2018/
END:VEVENT
BEGIN:VEVENT
DTSTART;TZID=America/Los_Angeles:20181115T180000
DTEND;TZID=America/Los_Angeles:20181115T190000
DTSTAMP:20260424T035101
CREATED:20181025T060652Z
LAST-MODIFIED:20181025T060652Z
UID:1995-1542304800-1542308400@www.abiquaheights.com
SUMMARY:AHHA Board Meeting - Members' Meeting - November 15\, 2018
DESCRIPTION:The annual AHHA Members’ Meeting will be held November 15\, 2018 at the First Christian Church in Silverton.  The meeting will begin at 6:00 PM.
URL:https://www.abiquaheights.com/event/ahha-board-meeting-members-meeting-november-15-2018/
END:VEVENT
BEGIN:VEVENT
DTSTART;TZID=America/Los_Angeles:20181025T000000
DTEND;TZID=America/Los_Angeles:20181025T200000
DTSTAMP:20260424T035101
CREATED:20181025T060308Z
LAST-MODIFIED:20181025T060308Z
UID:1993-1540425600-1540497600@www.abiquaheights.com
SUMMARY:Petition for Candidacy Deadline
DESCRIPTION:Deadline for Petition of Candidacy to be delivered to any Board member is 8:00 PM
URL:https://www.abiquaheights.com/event/petition-for-candidacy-deadline/
END:VEVENT
BEGIN:VEVENT
DTSTART;TZID=America/Los_Angeles:20181011T170000
DTEND;TZID=America/Los_Angeles:20181011T180000
DTSTAMP:20260424T035101
CREATED:20180912T040553Z
LAST-MODIFIED:20180912T040739Z
UID:1962-1539277200-1539280800@www.abiquaheights.com
SUMMARY:AHHA Board Meeting - October 11\, 2018
DESCRIPTION:The October AHHA Board Meeting will be held at the First Christian Church\, 402 1st Street\, Silverton\, OR 97381.  The meeting will begin at 5 PM with an Open Session for members’ comments.
URL:https://www.abiquaheights.com/event/ahha-board-meeting-october-11-2018/
END:VEVENT
BEGIN:VEVENT
DTSTART;TZID=America/Los_Angeles:20180911T190000
DTEND;TZID=America/Los_Angeles:20180911T193000
DTSTAMP:20260424T035101
CREATED:20180906T035652Z
LAST-MODIFIED:20180906T035652Z
UID:1957-1536692400-1536694200@www.abiquaheights.com
SUMMARY:ARC Meeting - September 11\, 2018
DESCRIPTION:The next ARC meeting is Tuesday\, September 11\, 2018 at 1115 Skookum Drive.  The meeting begins at 7:00 PM.  Please get your requests to the ARC in time for their consideration.
URL:https://www.abiquaheights.com/event/arc-meeting-september-11-2018/
END:VEVENT
BEGIN:VEVENT
DTSTART;TZID=America/Los_Angeles:20180911T170000
DTEND;TZID=America/Los_Angeles:20180911T180000
DTSTAMP:20260424T035101
CREATED:20180906T034720Z
LAST-MODIFIED:20180906T034720Z
UID:1953-1536685200-1536688800@www.abiquaheights.com
SUMMARY:AHHA Board Meeting - September 11\, 2018 - In the Commons
DESCRIPTION:The September AHHA Board Meeting will be held in the Commons at 5 PM.  Please bring a lawn chair if you are planning on attending.
URL:https://www.abiquaheights.com/event/ahha-board-meeting-september-11-2018-in-the-commons/
END:VEVENT
BEGIN:VEVENT
DTSTART;TZID=America/Los_Angeles:20180908T183000
DTEND;TZID=America/Los_Angeles:20180908T193000
DTSTAMP:20260424T035101
CREATED:20180906T035159Z
LAST-MODIFIED:20180906T035159Z
UID:1955-1536431400-1536435000@www.abiquaheights.com
SUMMARY:Pie and Ice Cream Social
DESCRIPTION:The Fifth Annual Pie and Ice Cream Social will be held in the Commons starting at 6:30 PM.  Please remember to bring a lawn chair or blanket.  You are welcome to bring a dessert to share if you wish.
URL:https://www.abiquaheights.com/event/pie-and-ice-cream-social/
END:VEVENT
BEGIN:VEVENT
DTSTART;TZID=America/Los_Angeles:20180807T190000
DTEND;TZID=America/Los_Angeles:20180807T193000
DTSTAMP:20260424T035101
CREATED:20180712T222604Z
LAST-MODIFIED:20180712T222604Z
UID:1934-1533668400-1533670200@www.abiquaheights.com
SUMMARY:ARC Meeting
DESCRIPTION:August ARC Meeting please submit your landscaping\, painting or construction requests as soon as possible.
URL:https://www.abiquaheights.com/event/arc-meeting-22/
END:VEVENT
BEGIN:VEVENT
DTSTART;TZID=America/Los_Angeles:20180712T170000
DTEND;TZID=America/Los_Angeles:20180712T180000
DTSTAMP:20260424T035101
CREATED:20180619T040149Z
LAST-MODIFIED:20180619T040149Z
UID:1915-1531414800-1531418400@www.abiquaheights.com
SUMMARY:AHHA Board Meeting - July 12\, 2018
DESCRIPTION:The July meeting will be held in the Commons.  The meeting will begin at 5 PM with an open session for members of the community.
URL:https://www.abiquaheights.com/event/ahha-board-meeting-july-12-2018/
END:VEVENT
BEGIN:VEVENT
DTSTART;TZID=America/Los_Angeles:20180710T190000
DTEND;TZID=America/Los_Angeles:20180710T200000
DTSTAMP:20260424T035101
CREATED:20180619T035547Z
LAST-MODIFIED:20180619T035547Z
UID:1911-1531249200-1531252800@www.abiquaheights.com
SUMMARY:ARC Meeting
DESCRIPTION:The ARC (Architectural Review Committee) will meet Tuesday\, July 10 at 7 PM.  Please get your requests to the ARC as soon as possible.
URL:https://www.abiquaheights.com/event/arc-meeting-21/
END:VEVENT
BEGIN:VEVENT
DTSTART;TZID=America/Los_Angeles:20180704T193000
DTEND;TZID=America/Los_Angeles:20180704T210000
DTSTAMP:20260424T035101
CREATED:20180630T052024Z
LAST-MODIFIED:20180630T052024Z
UID:1921-1530732600-1530738000@www.abiquaheights.com
SUMMARY:Ice Cream in the Commons - July 4th
DESCRIPTION:Everyone is invited to sample homemade ice cream and other desserts.  Ice cream is served at 7:30 until it is gone. Desserts\, utensils\, and water are provided.  There is limited seating in the Commons so please consider bringing a lawn chair.
URL:https://www.abiquaheights.com/event/ice-cream-in-the-commons-july-4th/
END:VEVENT
BEGIN:VEVENT
DTSTART;TZID=America/Los_Angeles:20180702T180000
DTEND;TZID=America/Los_Angeles:20180702T190000
DTSTAMP:20260424T035101
CREATED:20180619T035330Z
LAST-MODIFIED:20180619T035330Z
UID:1909-1530554400-1530558000@www.abiquaheights.com
SUMMARY:Amenities Committee Meeting
DESCRIPTION:The Amenities Committee will meet Monday\, July 2\, 2018 at 6 PM.  All members of the community are welcome.  The meeting will be at 540 Tillicum Drive.
URL:https://www.abiquaheights.com/event/amenities-committee-meeting/
END:VEVENT
BEGIN:VEVENT
DTSTART;TZID=America/Los_Angeles:20180701T140000
DTEND;TZID=America/Los_Angeles:20180701T153000
DTSTAMP:20260424T035101
CREATED:20180630T051706Z
LAST-MODIFIED:20180630T051706Z
UID:1919-1530453600-1530459000@www.abiquaheights.com
SUMMARY:Rock Painting in the Commons - July 1
DESCRIPTION:Rocks\, paints\, brushes and other tools will be available for neighbors to paint rocks.  Open to all ages.
URL:https://www.abiquaheights.com/event/rock-painting-in-the-commons-july-1/
END:VEVENT
BEGIN:VEVENT
DTSTART;TZID=America/Los_Angeles:20180630T090000
DTEND;TZID=America/Los_Angeles:20180630T190000
DTSTAMP:20260424T035101
CREATED:20180619T035921Z
LAST-MODIFIED:20180619T035921Z
UID:1913-1530349200-1530385200@www.abiquaheights.com
SUMMARY:Special Use of the Commons - Birthday Party
DESCRIPTION:Birthday celebration in the Commons.  Picnic Tables are reserved.
URL:https://www.abiquaheights.com/event/special-use-of-the-commons-birthday-party/
END:VEVENT
BEGIN:VEVENT
DTSTART;TZID=America/Los_Angeles:20180623T090000
DTEND;TZID=America/Los_Angeles:20180623T120000
DTSTAMP:20260424T035101
CREATED:20180619T035020Z
LAST-MODIFIED:20180619T035020Z
UID:1907-1529744400-1529755200@www.abiquaheights.com
SUMMARY:Community Work Day
DESCRIPTION:All volunteers are welcome\, there is no age limit and no strength requirement.  Work will begin at 9 AM.  If you have a wheelbarrow\, yard cart\, shovel\, or rake please bring it with you.  Gloves are suggested.  Refreshments and snacks are provided.  Join your neighbors in the Commons.
URL:https://www.abiquaheights.com/event/community-work-day/
END:VEVENT
BEGIN:VEVENT
DTSTART;TZID=America/Los_Angeles:20180614T170000
DTEND;TZID=America/Los_Angeles:20180614T180000
DTSTAMP:20260424T035101
CREATED:20180524T071147Z
LAST-MODIFIED:20180524T071147Z
UID:1885-1528995600-1528999200@www.abiquaheights.com
SUMMARY:AHHA Board Meeting - June 14\, 2018
DESCRIPTION:The next AHHA Board meeting will be held on June 14\, 2018 at the First Christian Church.  The meeting will begin at 5 PM.  All members are invited and the meeting opens with comments from the members.
URL:https://www.abiquaheights.com/event/ahha-board-meeting-june-14-2018/
END:VEVENT
BEGIN:VEVENT
DTSTART;TZID=America/Los_Angeles:20180605T190000
DTEND;TZID=America/Los_Angeles:20180605T200000
DTSTAMP:20260424T035101
CREATED:20180524T070740Z
LAST-MODIFIED:20180524T070740Z
UID:1883-1528225200-1528228800@www.abiquaheights.com
SUMMARY:ARC Meeting - June 5\, 2018
DESCRIPTION:The next ARC meeting will be June 5\, 2018 at 1115 Skookum Drive.  The meeting will begin at 7:00 PM.  Please make sure your requests are made allowing the committee time for their consideration.
URL:https://www.abiquaheights.com/event/arc-meeting-june-5-2018/
END:VEVENT
BEGIN:VEVENT
DTSTART;TZID=America/Los_Angeles:20180510T170000
DTEND;TZID=America/Los_Angeles:20180510T180000
DTSTAMP:20260424T035101
CREATED:20180323T034128Z
LAST-MODIFIED:20180323T034128Z
UID:1855-1525971600-1525975200@www.abiquaheights.com
SUMMARY:AHHA Board Meeting - May 10\, 2018
DESCRIPTION:The next AHHA Board meeting will be held May 10\, 2018 at 5:00 PM.  The meeting will be held at the First Christian Church\, 402 1st Street\, Silverton\, OR 97381.
URL:https://www.abiquaheights.com/event/ahha-board-meeting-may-10-2018/
END:VEVENT
BEGIN:VEVENT
DTSTART;TZID=America/Los_Angeles:20180501T190000
DTEND;TZID=America/Los_Angeles:20180501T200000
DTSTAMP:20260424T035101
CREATED:20180420T071938Z
LAST-MODIFIED:20180420T072057Z
UID:1863-1525201200-1525204800@www.abiquaheights.com
SUMMARY:ARC Meeting – May 1\, 2018
DESCRIPTION:The May ARC Meeting will be held May 1 at 7:00 PM.  Meetings generally last about one hour.  If you have a project in mind please let the ARC know in advance of the meeting date.  The meeting will be held at 1115 Skookum Drive.
URL:https://www.abiquaheights.com/event/arc-meeting-may-1-2018/
END:VEVENT
BEGIN:VEVENT
DTSTART;TZID=America/Los_Angeles:20180403T190000
DTEND;TZID=America/Los_Angeles:20180403T200000
DTSTAMP:20260424T035101
CREATED:20180323T033253Z
LAST-MODIFIED:20180324T052532Z
UID:1849-1522782000-1522785600@www.abiquaheights.com
SUMMARY:ARC Meeting - April 3\, 2018
DESCRIPTION:The next ARC meeting will be April 3\, 2018 at 7:00 PM.  The meeting will be held at 1115 Skookum Drive.
URL:https://www.abiquaheights.com/event/arc-meeting-april-2-2018/
END:VEVENT
END:VCALENDAR