BEGIN:VCALENDAR
VERSION:2.0
PRODID:-//Abiqua Heights - ECPv6.15.20//NONSGML v1.0//EN
CALSCALE:GREGORIAN
METHOD:PUBLISH
X-ORIGINAL-URL:https://www.abiquaheights.com
X-WR-CALDESC:Events for Abiqua Heights
REFRESH-INTERVAL;VALUE=DURATION:PT1H
X-Robots-Tag:noindex
X-PUBLISHED-TTL:PT1H
BEGIN:VTIMEZONE
TZID:America/Los_Angeles
BEGIN:DAYLIGHT
TZOFFSETFROM:-0800
TZOFFSETTO:-0700
TZNAME:PDT
DTSTART:20180311T100000
END:DAYLIGHT
BEGIN:STANDARD
TZOFFSETFROM:-0700
TZOFFSETTO:-0800
TZNAME:PST
DTSTART:20181104T090000
END:STANDARD
BEGIN:DAYLIGHT
TZOFFSETFROM:-0800
TZOFFSETTO:-0700
TZNAME:PDT
DTSTART:20190310T100000
END:DAYLIGHT
BEGIN:STANDARD
TZOFFSETFROM:-0700
TZOFFSETTO:-0800
TZNAME:PST
DTSTART:20191103T090000
END:STANDARD
BEGIN:DAYLIGHT
TZOFFSETFROM:-0800
TZOFFSETTO:-0700
TZNAME:PDT
DTSTART:20200308T100000
END:DAYLIGHT
BEGIN:STANDARD
TZOFFSETFROM:-0700
TZOFFSETTO:-0800
TZNAME:PST
DTSTART:20201101T090000
END:STANDARD
BEGIN:DAYLIGHT
TZOFFSETFROM:-0800
TZOFFSETTO:-0700
TZNAME:PDT
DTSTART:20210314T100000
END:DAYLIGHT
BEGIN:STANDARD
TZOFFSETFROM:-0700
TZOFFSETTO:-0800
TZNAME:PST
DTSTART:20211107T090000
END:STANDARD
BEGIN:DAYLIGHT
TZOFFSETFROM:-0800
TZOFFSETTO:-0700
TZNAME:PDT
DTSTART:20220313T100000
END:DAYLIGHT
BEGIN:STANDARD
TZOFFSETFROM:-0700
TZOFFSETTO:-0800
TZNAME:PST
DTSTART:20221106T090000
END:STANDARD
BEGIN:DAYLIGHT
TZOFFSETFROM:-0800
TZOFFSETTO:-0700
TZNAME:PDT
DTSTART:20230312T100000
END:DAYLIGHT
BEGIN:STANDARD
TZOFFSETFROM:-0700
TZOFFSETTO:-0800
TZNAME:PST
DTSTART:20231105T090000
END:STANDARD
END:VTIMEZONE
BEGIN:VEVENT
DTSTART;TZID=America/Los_Angeles:20220528T113000
DTEND;TZID=America/Los_Angeles:20220528T163000
DTSTAMP:20260424T010511
CREATED:20220506T223721Z
LAST-MODIFIED:20220506T223721Z
UID:2725-1653737400-1653755400@www.abiquaheights.com
SUMMARY:Special Use of the Commons - BBQ Social for Silverton High School Boys' Tennis Team
DESCRIPTION:End of the year celebration for the Silverton High School Boys’ Tennis Team and their families.
URL:https://www.abiquaheights.com/event/special-use-of-the-commons-bbq-social-for-silverton-high-school-boys-tennis-team/
END:VEVENT
BEGIN:VEVENT
DTSTART;TZID=America/Los_Angeles:20210725T133000
DTEND;TZID=America/Los_Angeles:20210725T213000
DTSTAMP:20260424T010511
CREATED:20210615T041748Z
LAST-MODIFIED:20210615T041748Z
UID:2474-1627219800-1627248600@www.abiquaheights.com
SUMMARY:Special Use of the Commons - July 25\, 2021 - Family Reunion
DESCRIPTION:Family Reunion
URL:https://www.abiquaheights.com/event/special-use-of-the-commons-july-25-2021-family-reunion/
END:VEVENT
BEGIN:VEVENT
DTSTART;TZID=America/Los_Angeles:20210717T180000
DTEND;TZID=America/Los_Angeles:20210717T200000
DTSTAMP:20260424T010511
CREATED:20210713T014549Z
LAST-MODIFIED:20210713T014549Z
UID:2485-1626544800-1626552000@www.abiquaheights.com
SUMMARY:July 17\, 2021 -Annual Meeting of the Members & Community Picnic
DESCRIPTION:Annual Meeting of the Members and Community Picnic with pizza and more.
URL:https://www.abiquaheights.com/event/july-17-2021-annual-meeting-of-the-members-community-picnic/
END:VEVENT
BEGIN:VEVENT
DTSTART;TZID=America/Los_Angeles:20210703T130000
DTEND;TZID=America/Los_Angeles:20210703T163000
DTSTAMP:20260424T010511
CREATED:20210615T041615Z
LAST-MODIFIED:20210615T041615Z
UID:2472-1625317200-1625329800@www.abiquaheights.com
SUMMARY:Special Use of the Commons - July 3\, 2021 - Family Gathering
DESCRIPTION:Family event from 1:15 – 4 PM.
URL:https://www.abiquaheights.com/event/special-use-of-the-commons-july-3-2021-family-gathering/
END:VEVENT
BEGIN:VEVENT
DTSTART;TZID=America/Los_Angeles:20210703T090000
DTEND;TZID=America/Los_Angeles:20210703T130000
DTSTAMP:20260424T010511
CREATED:20210510T044248Z
LAST-MODIFIED:20210603T035233Z
UID:2442-1625302800-1625317200@www.abiquaheights.com
SUMMARY:Special Use of the Commons - Birthday Party - July 3\, 2021
DESCRIPTION:Two year olds birthday party.
URL:https://www.abiquaheights.com/event/special-use-of-the-commons-birthday-party-5/
END:VEVENT
BEGIN:VEVENT
DTSTART;TZID=America/Los_Angeles:20210626T090000
DTEND;TZID=America/Los_Angeles:20210626T210000
DTSTAMP:20260424T010511
CREATED:20210603T034917Z
LAST-MODIFIED:20210603T034917Z
UID:2455-1624698000-1624741200@www.abiquaheights.com
SUMMARY:Special Use of the Commons - Anniversary Celebration - June 26\, 2021
DESCRIPTION:All day Anniversary celebration in the Commons.
URL:https://www.abiquaheights.com/event/special-use-of-the-commons-anniversary-celebration-june-26-2021/
END:VEVENT
BEGIN:VEVENT
DTSTART;TZID=America/Los_Angeles:20210619T100000
DTEND;TZID=America/Los_Angeles:20210619T210000
DTSTAMP:20260424T010511
CREATED:20210611T034534Z
LAST-MODIFIED:20210611T034534Z
UID:2470-1624096800-1624136400@www.abiquaheights.com
SUMMARY:Special Use of the Commons - June 19\, 2021 -Birthday Celebration
DESCRIPTION:Joint children’s birthday party.
URL:https://www.abiquaheights.com/event/special-use-of-the-commons-june-19-2021-birthday-celebration/
END:VEVENT
BEGIN:VEVENT
DTSTART;TZID=America/Los_Angeles:20210617T170000
DTEND;TZID=America/Los_Angeles:20210617T180000
DTSTAMP:20260424T010511
CREATED:20210603T034727Z
LAST-MODIFIED:20210611T034315Z
UID:2453-1623949200-1623952800@www.abiquaheights.com
SUMMARY:AHHA Board Meeting - June 17\, 2021 - 5 PM in the Commons
DESCRIPTION:Regular meeting of the AHHA Board of Directors in the Commons at 5PM.
URL:https://www.abiquaheights.com/event/ahha-board-meeting-june-10-2021-5-pm-in-the-commons/
END:VEVENT
BEGIN:VEVENT
DTSTART;TZID=America/Los_Angeles:20210613T100000
DTEND;TZID=America/Los_Angeles:20210613T210000
DTSTAMP:20260424T010511
CREATED:20210603T035131Z
LAST-MODIFIED:20210603T035131Z
UID:2457-1623578400-1623618000@www.abiquaheights.com
SUMMARY:Special Use of the Commons - Birthday Celebration - June 13\, 2021
DESCRIPTION:Day long birthday celebration in the Commons.
URL:https://www.abiquaheights.com/event/special-use-of-the-commons-birthday-celebration-june-13-2021/
END:VEVENT
BEGIN:VEVENT
DTSTART;TZID=America/Los_Angeles:20210513T170000
DTEND;TZID=America/Los_Angeles:20210513T180000
DTSTAMP:20260424T010511
CREATED:20210510T044434Z
LAST-MODIFIED:20210510T044434Z
UID:2444-1620925200-1620928800@www.abiquaheights.com
SUMMARY:AHHA Board Meeting
DESCRIPTION:May meeting of the AHHA Board\, in the Commons.
URL:https://www.abiquaheights.com/event/ahha-board-meeting-2/
END:VEVENT
BEGIN:VEVENT
DTSTART;TZID=America/Los_Angeles:20210311T170000
DTEND;TZID=America/Los_Angeles:20210311T180000
DTSTAMP:20260424T010511
CREATED:20210119T015034Z
LAST-MODIFIED:20210119T015034Z
UID:2391-1615482000-1615485600@www.abiquaheights.com
SUMMARY:AHHA Board Meeting
DESCRIPTION:AHHA Board Meeting -5PM- Site to be announced.
URL:https://www.abiquaheights.com/event/ahha-board-meeting/
END:VEVENT
BEGIN:VEVENT
DTSTART;TZID=America/Los_Angeles:20200913T190000
DTEND;TZID=America/Los_Angeles:20200913T213000
DTSTAMP:20260424T010511
CREATED:20200831T042451Z
LAST-MODIFIED:20200831T042451Z
UID:2342-1600023600-1600032600@www.abiquaheights.com
SUMMARY:Special Use of the Commons - Film Showing
DESCRIPTION:Playing of the documentary film regarding Sheltering Silverton.
URL:https://www.abiquaheights.com/event/special-use-of-the-commons-film-showing/
END:VEVENT
BEGIN:VEVENT
DTSTART;TZID=America/Los_Angeles:20200910T170000
DTEND;TZID=America/Los_Angeles:20200910T180000
DTSTAMP:20260424T010511
CREATED:20200831T042708Z
LAST-MODIFIED:20200831T042708Z
UID:2344-1599757200-1599760800@www.abiquaheights.com
SUMMARY:AHHA Board Meeting - September 10\, 2020
DESCRIPTION:AHHA Board Meeting held at 645 Shelokum Drive……all members are welcome.
URL:https://www.abiquaheights.com/event/ahha-board-meeting-september-10-2020/
END:VEVENT
BEGIN:VEVENT
DTSTART;TZID=America/Los_Angeles:20200829T120000
DTEND;TZID=America/Los_Angeles:20200829T160000
DTSTAMP:20260424T010511
CREATED:20200827T033340Z
LAST-MODIFIED:20200827T033340Z
UID:2335-1598702400-1598716800@www.abiquaheights.com
SUMMARY:Special Use of the Commons - Birthday Party
DESCRIPTION:10th Birthday Party
URL:https://www.abiquaheights.com/event/special-use-of-the-commons-birthday-party-4/
END:VEVENT
BEGIN:VEVENT
DTSTART;TZID=America/Los_Angeles:20200809T143000
DTEND;TZID=America/Los_Angeles:20200809T183000
DTSTAMP:20260424T010511
CREATED:20200805T064538Z
LAST-MODIFIED:20200805T064538Z
UID:2320-1596983400-1596997800@www.abiquaheights.com
SUMMARY:Special Use of the Commons - 30th Birthday Party
DESCRIPTION:Special Use of the Commons – 30th Birthday Party\, mostly a drive-by party!
URL:https://www.abiquaheights.com/event/special-use-of-the-commons-30th-birthday-party/
LOCATION:Abiqua Heights Commons
END:VEVENT
BEGIN:VEVENT
DTSTART;TZID=America/Los_Angeles:20200627T130000
DTEND;TZID=America/Los_Angeles:20200627T190000
DTSTAMP:20260424T010511
CREATED:20200612T042324Z
LAST-MODIFIED:20200612T042415Z
UID:2294-1593262800-1593284400@www.abiquaheights.com
SUMMARY:Special Use of the Commons - Family Birthday Party
DESCRIPTION:Family Birthday Party
URL:https://www.abiquaheights.com/event/special-use-of-the-commons-june-27-2020/
END:VEVENT
BEGIN:VEVENT
DTSTART;TZID=America/Los_Angeles:20200613T090000
DTEND;TZID=America/Los_Angeles:20200613T140000
DTSTAMP:20260424T010511
CREATED:20200612T041805Z
LAST-MODIFIED:20200612T042057Z
UID:2291-1592038800-1592056800@www.abiquaheights.com
SUMMARY:Special Use of the Commons - Family Birthday Party
DESCRIPTION:Family Birthday Party
URL:https://www.abiquaheights.com/event/2291/
END:VEVENT
BEGIN:VEVENT
DTSTART;TZID=America/Los_Angeles:20190929T120000
DTEND;TZID=America/Los_Angeles:20190929T220000
DTSTAMP:20260424T010511
CREATED:20190715T035429Z
LAST-MODIFIED:20190715T035545Z
UID:2161-1569758400-1569794400@www.abiquaheights.com
SUMMARY:Special Use of the Commons - Family Reunion - September 29\, 2019
DESCRIPTION:Family gathering.
URL:https://www.abiquaheights.com/event/special-use-of-the-commons-family-reunion/
END:VEVENT
BEGIN:VEVENT
DTSTART;TZID=America/Los_Angeles:20190630T100000
DTEND;TZID=America/Los_Angeles:20190630T190000
DTSTAMP:20260424T010511
CREATED:20190610T072714Z
LAST-MODIFIED:20190610T072714Z
UID:2131-1561888800-1561921200@www.abiquaheights.com
SUMMARY:Special Use of the Commons - Birthday Party
DESCRIPTION:3 Year Old Birthday Party
URL:https://www.abiquaheights.com/event/special-use-of-the-commons-birthday-party-3/
END:VEVENT
BEGIN:VEVENT
DTSTART;TZID=America/Los_Angeles:20190625T170000
DTEND;TZID=America/Los_Angeles:20190625T210000
DTSTAMP:20260424T010511
CREATED:20190615T041048Z
LAST-MODIFIED:20190615T041128Z
UID:2135-1561482000-1561496400@www.abiquaheights.com
SUMMARY:Special Use of the Commons - Private Summer Party - June 25\, 2019
DESCRIPTION:Summertime Potluck.
URL:https://www.abiquaheights.com/event/special-use-of-the-commons-private-summer-party-june-25-2019/
END:VEVENT
BEGIN:VEVENT
DTSTART;TZID=America/Los_Angeles:20190618T190000
DTEND;TZID=America/Los_Angeles:20190618T200000
DTSTAMP:20260424T010511
CREATED:20190521T040713Z
LAST-MODIFIED:20190521T040713Z
UID:2118-1560884400-1560888000@www.abiquaheights.com
SUMMARY:ARC Meeting - June 18\, 2019
DESCRIPTION:The next scheduled meeting of the Architectural Review Committee (ARC) will be June 18\, 2019 at 7 PM.  The meeting will be held at 1115 Skookum Drive.
URL:https://www.abiquaheights.com/event/arc-meeting-june-18-2019/
END:VEVENT
BEGIN:VEVENT
DTSTART;TZID=America/Los_Angeles:20190615T143000
DTEND;TZID=America/Los_Angeles:20190615T193000
DTSTAMP:20260424T010511
CREATED:20190615T041334Z
LAST-MODIFIED:20190615T041334Z
UID:2137-1560609000-1560627000@www.abiquaheights.com
SUMMARY:Special Use of the Commons - End of the Season Team Party - June 15\, 2019
DESCRIPTION:End of thew Year Soccer Team Party.
URL:https://www.abiquaheights.com/event/special-use-of-the-commons-end-of-the-season-team-party-june-15-2019/
END:VEVENT
BEGIN:VEVENT
DTSTART;TZID=America/Los_Angeles:20190613T170000
DTEND;TZID=America/Los_Angeles:20190613T180000
DTSTAMP:20260424T010511
CREATED:20190610T072924Z
LAST-MODIFIED:20190610T072924Z
UID:2133-1560445200-1560448800@www.abiquaheights.com
SUMMARY:AHHA Board Meeting - June 13\, 2019
DESCRIPTION:AHHA Board meeting will be held at 645 Shelokum Drive.  Meeting begins at 5 PM.  Agenda is short.
URL:https://www.abiquaheights.com/event/ahha-board-meeting-june-13-2019/
END:VEVENT
BEGIN:VEVENT
DTSTART;TZID=America/Los_Angeles:20190609T153000
DTEND;TZID=America/Los_Angeles:20190609T193000
DTSTAMP:20260424T010511
CREATED:20190521T035946Z
LAST-MODIFIED:20190521T035946Z
UID:2116-1560094200-1560108600@www.abiquaheights.com
SUMMARY:Special Use of the Commons - End of Year Soccer Club Party
DESCRIPTION:End of the year party for the Silver Falls Soccer Club Team.
URL:https://www.abiquaheights.com/event/special-use-of-the-commons-end-of-year-soccer-club-party/
END:VEVENT
BEGIN:VEVENT
DTSTART;TZID=America/Los_Angeles:20190608T093000
DTEND;TZID=America/Los_Angeles:20190608T133000
DTSTAMP:20260424T010511
CREATED:20190521T035708Z
LAST-MODIFIED:20190521T035708Z
UID:2114-1559986200-1560000600@www.abiquaheights.com
SUMMARY:Special Use of the Commons - Birthday Party
DESCRIPTION:Birthday Party for a child\, 5 years old.  Includes “jumping house.”
URL:https://www.abiquaheights.com/event/special-use-of-the-commons-birthday-party-2/
END:VEVENT
BEGIN:VEVENT
DTSTART;TZID=America/Los_Angeles:20190509T170000
DTEND;TZID=America/Los_Angeles:20190509T180000
DTSTAMP:20260424T010511
CREATED:20190411T063510Z
LAST-MODIFIED:20190411T063510Z
UID:2092-1557421200-1557424800@www.abiquaheights.com
SUMMARY:AHHA Board Meeting - May 9\, 2019
DESCRIPTION:The AHHA Board Meeting will be held at the first Christian Church in Silverton.  The meting will begin at 5 PM with a members’ open forum.
URL:https://www.abiquaheights.com/event/ahha-board-meeting-may-9-2019/
END:VEVENT
BEGIN:VEVENT
DTSTART;TZID=America/Los_Angeles:20190507T190000
DTEND;TZID=America/Los_Angeles:20190507T200000
DTSTAMP:20260424T010511
CREATED:20190411T063216Z
LAST-MODIFIED:20190411T063216Z
UID:2090-1557255600-1557259200@www.abiquaheights.com
SUMMARY:ARC Meeting - May 7\, 2019
DESCRIPTION:The monthly meeting of the Architectural Review Committee will be held May 7\, 2019 at 7 PM.  The meeting will be at 1115 Skookum Drive.
URL:https://www.abiquaheights.com/event/arc-meeting-may-7-2019/
END:VEVENT
BEGIN:VEVENT
DTSTART;TZID=America/Los_Angeles:20190420T100000
DTEND;TZID=America/Los_Angeles:20190420T110000
DTSTAMP:20260424T010511
CREATED:20190411T062900Z
LAST-MODIFIED:20190411T062900Z
UID:2088-1555754400-1555758000@www.abiquaheights.com
SUMMARY:Friends of Abiqua Heights Easter Egg Hunt
DESCRIPTION:The Egg Hunt will begin at exactly 10 AM in the Abiqua Heights Commons.  There will be a separate area for smaller children.  Refreshments and photo ops are available.  All are invited.
URL:https://www.abiquaheights.com/event/friends-of-abiqua-heights-easter-egg-hunt/
END:VEVENT
BEGIN:VEVENT
DTSTART;TZID=America/Los_Angeles:20190411T170000
DTEND;TZID=America/Los_Angeles:20190411T180000
DTSTAMP:20260424T010511
CREATED:20190411T062603Z
LAST-MODIFIED:20190411T062603Z
UID:2086-1555002000-1555005600@www.abiquaheights.com
SUMMARY:AHHA Board Meeting - April 11\, 2019
DESCRIPTION:AHHA Board Meeting will be held at the First Christian Church in Silverton.  The meeting starts at 5:00 PM with an open forum for members.
URL:https://www.abiquaheights.com/event/ahha-board-meeting-april-11-2019/
END:VEVENT
BEGIN:VEVENT
DTSTART;TZID=America/Los_Angeles:20190314T170000
DTEND;TZID=America/Los_Angeles:20190314T180000
DTSTAMP:20260424T010511
CREATED:20190313T070806Z
LAST-MODIFIED:20190313T070806Z
UID:2070-1552582800-1552586400@www.abiquaheights.com
SUMMARY:AHHA Board Meeting - March 14\, 2019
DESCRIPTION:AHHA Board meeting will be held at the First Christian Church in Silverton.  The meeting will begin at 5 PM.
URL:https://www.abiquaheights.com/event/ahha-board-meeting-march-14-2019/
END:VEVENT
END:VCALENDAR