BEGIN:VCALENDAR
VERSION:2.0
PRODID:-//Abiqua Heights - ECPv6.15.20//NONSGML v1.0//EN
CALSCALE:GREGORIAN
METHOD:PUBLISH
X-WR-CALNAME:Abiqua Heights
X-ORIGINAL-URL:https://www.abiquaheights.com
X-WR-CALDESC:Events for Abiqua Heights
REFRESH-INTERVAL;VALUE=DURATION:PT1H
X-Robots-Tag:noindex
X-PUBLISHED-TTL:PT1H
BEGIN:VTIMEZONE
TZID:America/Los_Angeles
BEGIN:DAYLIGHT
TZOFFSETFROM:-0800
TZOFFSETTO:-0700
TZNAME:PDT
DTSTART:20140309T100000
END:DAYLIGHT
BEGIN:STANDARD
TZOFFSETFROM:-0700
TZOFFSETTO:-0800
TZNAME:PST
DTSTART:20141102T090000
END:STANDARD
BEGIN:DAYLIGHT
TZOFFSETFROM:-0800
TZOFFSETTO:-0700
TZNAME:PDT
DTSTART:20150308T100000
END:DAYLIGHT
BEGIN:STANDARD
TZOFFSETFROM:-0700
TZOFFSETTO:-0800
TZNAME:PST
DTSTART:20151101T090000
END:STANDARD
BEGIN:DAYLIGHT
TZOFFSETFROM:-0800
TZOFFSETTO:-0700
TZNAME:PDT
DTSTART:20160313T100000
END:DAYLIGHT
BEGIN:STANDARD
TZOFFSETFROM:-0700
TZOFFSETTO:-0800
TZNAME:PST
DTSTART:20161106T090000
END:STANDARD
BEGIN:DAYLIGHT
TZOFFSETFROM:-0800
TZOFFSETTO:-0700
TZNAME:PDT
DTSTART:20170312T100000
END:DAYLIGHT
BEGIN:STANDARD
TZOFFSETFROM:-0700
TZOFFSETTO:-0800
TZNAME:PST
DTSTART:20171105T090000
END:STANDARD
END:VTIMEZONE
BEGIN:VEVENT
DTSTART;TZID=America/Los_Angeles:20160711T190000
DTEND;TZID=America/Los_Angeles:20160711T200000
DTSTAMP:20260424T155353
CREATED:20160614T034528Z
LAST-MODIFIED:20160614T034636Z
UID:1008-1468263600-1468267200@www.abiquaheights.com
SUMMARY:ARC Meeting
DESCRIPTION:July ARC meeting
URL:https://www.abiquaheights.com/event/arc-meeting-19/
LOCATION:1220 Skookum Dr.\, 1220 Skookum Dr.\, Silverton\, OR\, 97381\, United States
CATEGORIES:ARC Meetings
END:VEVENT
BEGIN:VEVENT
DTSTART;TZID=America/Los_Angeles:20160606T190000
DTEND;TZID=America/Los_Angeles:20160606T200000
DTSTAMP:20260424T155353
CREATED:20160512T230101Z
LAST-MODIFIED:20160512T230101Z
UID:966-1465239600-1465243200@www.abiquaheights.com
SUMMARY:ARC Meeting
DESCRIPTION:June ARC Meeting
URL:https://www.abiquaheights.com/event/arc-meeting-18/
LOCATION:775 Shelokum Dr.\, 775 Shelokum Dr.\, Silverton\, OR\, 97381\, United States
CATEGORIES:ARC Meetings
END:VEVENT
BEGIN:VEVENT
DTSTART;TZID=America/Los_Angeles:20160512T190000
DTEND;TZID=America/Los_Angeles:20160512T200000
DTSTAMP:20260424T155353
CREATED:20160427T033739Z
LAST-MODIFIED:20160427T033739Z
UID:948-1463079600-1463083200@www.abiquaheights.com
SUMMARY:Board Meeting
DESCRIPTION:Thursday\, May 12th\, @ 7 PM at the Silverton Senior Center.
URL:https://www.abiquaheights.com/event/board-meeting-18/
LOCATION:Silverton Senior Center\,  115 Westfield Street\, Silverton\, OR\, 97381\, United States
CATEGORIES:Board Meetings
END:VEVENT
BEGIN:VEVENT
DTSTART;TZID=America/Los_Angeles:20160504T183000
DTEND;TZID=America/Los_Angeles:20160504T200000
DTSTAMP:20260424T155353
CREATED:20160430T041530Z
LAST-MODIFIED:20160430T041530Z
UID:955-1462386600-1462392000@www.abiquaheights.com
SUMMARY:Amenities Committee
DESCRIPTION:May meeting
URL:https://www.abiquaheights.com/event/amenities-committee-2/
LOCATION:Silverton Senior Center\,  115 Westfield Street\, Silverton\, OR\, 97381\, United States
CATEGORIES:Amenities Committee
END:VEVENT
BEGIN:VEVENT
DTSTART;TZID=America/Los_Angeles:20160502T190000
DTEND;TZID=America/Los_Angeles:20160502T200000
DTSTAMP:20260424T155353
CREATED:20160406T040801Z
LAST-MODIFIED:20160406T040801Z
UID:918-1462215600-1462219200@www.abiquaheights.com
SUMMARY:ARC Meeting
DESCRIPTION:May ARC Meeting
URL:https://www.abiquaheights.com/event/arc-meeting-17/
LOCATION:560 Tillicum Dr.\, 560 Tillicum Dr.\, Silverton\, OR\, 97381\, United States
CATEGORIES:ARC Meetings
END:VEVENT
BEGIN:VEVENT
DTSTART;TZID=America/Los_Angeles:20160414T190000
DTEND;TZID=America/Los_Angeles:20160414T200000
DTSTAMP:20260424T155353
CREATED:20160324T040942Z
LAST-MODIFIED:20160324T040942Z
UID:904-1460660400-1460664000@www.abiquaheights.com
SUMMARY:Board Meeting
DESCRIPTION:Thursday\, April 14th\, @ 7 PM at the Silverton Senior Center.
URL:https://www.abiquaheights.com/event/board-meeting-17/
LOCATION:Silverton Senior Center\,  115 Westfield Street\, Silverton\, OR\, 97381\, United States
CATEGORIES:Board Meetings
END:VEVENT
BEGIN:VEVENT
DTSTART;TZID=America/Los_Angeles:20160411T183000
DTEND;TZID=America/Los_Angeles:20160411T200000
DTSTAMP:20260424T155353
CREATED:20160406T040334Z
LAST-MODIFIED:20160406T040334Z
UID:917-1460399400-1460404800@www.abiquaheights.com
SUMMARY:Amenities Committee
DESCRIPTION:April 11th\, 2016\, Silverton Senior Center\, 6:30 PM
URL:https://www.abiquaheights.com/event/amenities-committee/
LOCATION:Silverton Senior Center\,  115 Westfield Street\, Silverton\, OR\, 97381\, United States
CATEGORIES:Amenities Committee
END:VEVENT
BEGIN:VEVENT
DTSTART;TZID=America/Los_Angeles:20160407T190000
DTEND;TZID=America/Los_Angeles:20160407T200000
DTSTAMP:20260424T155353
CREATED:20160403T141759Z
LAST-MODIFIED:20160403T141759Z
UID:913-1460055600-1460059200@www.abiquaheights.com
SUMMARY:Board Planning Meeting
DESCRIPTION:The AHHA Board will hold a planning meeting 4/7/16 @ 7 PM. The meeting will be held at the Silverton Senior Center\, 115 Westfield Street.
URL:https://www.abiquaheights.com/event/board-planning-meeting-3/
LOCATION:Silverton Senior Center\,  115 Westfield Street\, Silverton\, OR\, 97381\, United States
CATEGORIES:Board Meetings
ATTACH;FMTTYPE=image/jpeg:https://www.abiquaheights.com/wp-content/uploads/2014/04/5521062797_40ebb39939_o.jpg
END:VEVENT
BEGIN:VEVENT
DTSTART;TZID=America/Los_Angeles:20160310T190000
DTEND;TZID=America/Los_Angeles:20160310T200000
DTSTAMP:20260424T155353
CREATED:20160301T034703Z
LAST-MODIFIED:20160301T034703Z
UID:883-1457636400-1457640000@www.abiquaheights.com
SUMMARY:Board Meeting
DESCRIPTION:Thursday\, March 10th\, @ 7 PM at the Silverton Senior Center.
URL:https://www.abiquaheights.com/event/board-meeting-16/
LOCATION:Silverton Senior Center\,  115 Westfield Street\, Silverton\, OR\, 97381\, United States
CATEGORIES:Board Meetings
END:VEVENT
BEGIN:VEVENT
DTSTART;TZID=America/Los_Angeles:20160307T190000
DTEND;TZID=America/Los_Angeles:20160307T200000
DTSTAMP:20260424T155353
CREATED:20160215T164518Z
LAST-MODIFIED:20160215T164518Z
UID:862-1457377200-1457380800@www.abiquaheights.com
SUMMARY:ARC Meeting
DESCRIPTION:March ARC Meeting
URL:https://www.abiquaheights.com/event/arc-meeting-16/
LOCATION:535 Tillicum Dr.\, 535 Tillicum Dr.\, Silverton\, 97381\, United States
CATEGORIES:ARC Meetings
END:VEVENT
BEGIN:VEVENT
DTSTART;TZID=America/Los_Angeles:20160217T100000
DTEND;TZID=America/Los_Angeles:20160217T110000
DTSTAMP:20260424T155353
CREATED:20160217T025028Z
LAST-MODIFIED:20160217T025028Z
UID:869-1455703200-1455706800@www.abiquaheights.com
SUMMARY:Board Planning Meeting
DESCRIPTION:The AHHA Board of Directors will hold a planning meeting 02/17/16 @ 10 AM. The meeting will take place at the City Hall Conference Room. \nThe meeting will be with City representatives Paul Eckley and John Cramer to discuss infrastructure changes to the pond in the Commons. AHHA members are welcome.
URL:https://www.abiquaheights.com/event/board-planning-meeting-2/
LOCATION:Silverton City Hall\, 306 S Water St\,\, Silverton\, OR\, 97381\, United States
CATEGORIES:Board Meetings
END:VEVENT
BEGIN:VEVENT
DTSTART;TZID=America/Los_Angeles:20160215T190000
DTEND;TZID=America/Los_Angeles:20160215T200000
DTSTAMP:20260424T155353
CREATED:20160209T051229Z
LAST-MODIFIED:20160209T051229Z
UID:851-1455562800-1455566400@www.abiquaheights.com
SUMMARY:Board Meeting
DESCRIPTION:Monday\, February 15 @ 7:00 pm at the Silverton Senior Center.
URL:https://www.abiquaheights.com/event/board-meeting-15/
LOCATION:Silverton Senior Center\,  115 Westfield Street\, Silverton\, OR\, 97381\, United States
CATEGORIES:Board Meetings
END:VEVENT
BEGIN:VEVENT
DTSTART;TZID=America/Los_Angeles:20160121T190000
DTEND;TZID=America/Los_Angeles:20160121T203000
DTSTAMP:20260424T155353
CREATED:20160113T035704Z
LAST-MODIFIED:20160113T035704Z
UID:817-1453402800-1453408200@www.abiquaheights.com
SUMMARY:Board Meeting
DESCRIPTION:Thursday January 21 @ 7:00 pm at the Silverton Senior Center.
URL:https://www.abiquaheights.com/event/board-meeting-14/
LOCATION:Silverton Senior Center\,  115 Westfield Street\, Silverton\, OR\, 97381\, United States
CATEGORIES:Board Meetings
END:VEVENT
BEGIN:VEVENT
DTSTART;TZID=America/Los_Angeles:20160111T190000
DTEND;TZID=America/Los_Angeles:20160111T200000
DTSTAMP:20260424T155353
CREATED:20151113T032922Z
LAST-MODIFIED:20151113T032922Z
UID:791-1452538800-1452542400@www.abiquaheights.com
SUMMARY:ARC Meeting
DESCRIPTION:January ARC Meeting
URL:https://www.abiquaheights.com/event/arc-meeting-15/
LOCATION:1220 Skookum Dr.\, 1220 Skookum Dr.\, Silverton\, OR\, 97381\, United States
CATEGORIES:ARC Meetings
END:VEVENT
BEGIN:VEVENT
DTSTART;TZID=America/Los_Angeles:20160105T130000
DTEND;TZID=America/Los_Angeles:20160105T140000
DTSTAMP:20260424T155353
CREATED:20151231T021810Z
LAST-MODIFIED:20151231T022744Z
UID:815-1451998800-1452002400@www.abiquaheights.com
SUMMARY:Board Meeting
DESCRIPTION:Tuesday\, January 5 @ 1:00 pm in the Commons.
URL:https://www.abiquaheights.com/event/board-meeting-13/
LOCATION:Commons
CATEGORIES:Board Meetings
END:VEVENT
BEGIN:VEVENT
DTSTART;TZID=America/Los_Angeles:20151210T190000
DTEND;TZID=America/Los_Angeles:20151210T200000
DTSTAMP:20260424T155353
CREATED:20151207T202233Z
LAST-MODIFIED:20151207T202233Z
UID:802-1449774000-1449777600@www.abiquaheights.com
SUMMARY:Board Meeting
DESCRIPTION:Board of Directors organization meeting December 10 @ 7:00 pm.
URL:https://www.abiquaheights.com/event/board-meeting-12/
LOCATION:451 Yapa Ct.\, 451 Yapa Ct.\, Silverton\, OR\, 97381\, United States
CATEGORIES:Board Meetings
END:VEVENT
BEGIN:VEVENT
DTSTART;TZID=America/Los_Angeles:20151117T190000
DTEND;TZID=America/Los_Angeles:20151117T210000
DTSTAMP:20260424T155353
CREATED:20151031T152443Z
LAST-MODIFIED:20151031T152443Z
UID:789-1447786800-1447794000@www.abiquaheights.com
SUMMARY:Annual Meeting
DESCRIPTION:Tuesday\, November 17th 2015 @ 7PM \, AHHA will have its annual meeting
URL:https://www.abiquaheights.com/event/annual-meeting-2/
LOCATION:Silverton Senior Center\,  115 Westfield Street\, Silverton\, OR\, 97381\, United States
CATEGORIES:Board Meetings
END:VEVENT
BEGIN:VEVENT
DTSTART;TZID=America/Los_Angeles:20151102T190000
DTEND;TZID=America/Los_Angeles:20151102T200000
DTSTAMP:20260424T155353
CREATED:20151007T032129Z
LAST-MODIFIED:20151007T032129Z
UID:761-1446490800-1446494400@www.abiquaheights.com
SUMMARY:ARC Meeting
DESCRIPTION:November ARC Meeting
URL:https://www.abiquaheights.com/event/arc-meeting-14/
LOCATION:535 Tillicum Dr.\, 535 Tillicum Dr.\, Silverton\, 97381\, United States
CATEGORIES:ARC Meetings
END:VEVENT
BEGIN:VEVENT
DTSTART;TZID=America/Los_Angeles:20151031T100000
DTEND;TZID=America/Los_Angeles:20151031T120000
DTSTAMP:20260424T155353
CREATED:20151028T051730Z
LAST-MODIFIED:20151028T051730Z
UID:784-1446285600-1446292800@www.abiquaheights.com
SUMMARY:Board Planning Meeting
DESCRIPTION:The Board of Directors will hold a planning meeting 10/31/15 @10 AM.
URL:https://www.abiquaheights.com/event/board-planning-meeting/
LOCATION:Silverton Senior Center\,  115 Westfield Street\, Silverton\, OR\, 97381\, United States
CATEGORIES:Board Meetings
END:VEVENT
BEGIN:VEVENT
DTSTART;TZID=America/Los_Angeles:20151022T190000
DTEND;TZID=America/Los_Angeles:20151022T210000
DTSTAMP:20260424T155353
CREATED:20151021T031200Z
LAST-MODIFIED:20151021T031200Z
UID:768-1445540400-1445547600@www.abiquaheights.com
SUMMARY:Board Meeting
DESCRIPTION:Board of Directors meeting October 22 @ 7:00 pm.
URL:https://www.abiquaheights.com/event/board-meeting-11/
LOCATION:Silverton Senior Center\,  115 Westfield Street\, Silverton\, OR\, 97381\, United States
CATEGORIES:Board Meetings
END:VEVENT
BEGIN:VEVENT
DTSTART;TZID=America/Los_Angeles:20151005T190000
DTEND;TZID=America/Los_Angeles:20151005T200000
DTSTAMP:20260424T155353
CREATED:20151007T025834Z
LAST-MODIFIED:20151007T025834Z
UID:744-1444071600-1444075200@www.abiquaheights.com
SUMMARY:ARC Meeting
DESCRIPTION:October ARC Meeting
URL:https://www.abiquaheights.com/event/arc-meeting-13/
LOCATION:535 Tillicum Dr.\, 535 Tillicum Dr.\, Silverton\, 97381\, United States
CATEGORIES:ARC Meetings
END:VEVENT
BEGIN:VEVENT
DTSTART;TZID=America/Los_Angeles:20150923T190000
DTEND;TZID=America/Los_Angeles:20150923T200000
DTSTAMP:20260424T155353
CREATED:20150913T180952Z
LAST-MODIFIED:20150913T180952Z
UID:725-1443034800-1443038400@www.abiquaheights.com
SUMMARY:Board Meeting
DESCRIPTION:Board of Directors meeting September 23 @ 7:00 pm.
URL:https://www.abiquaheights.com/event/board-meeting-10/
LOCATION:Silverton Senior Center\,  115 Westfield Street\, Silverton\, OR\, 97381\, United States
CATEGORIES:Board Meetings
END:VEVENT
BEGIN:VEVENT
DTSTART;TZID=America/Los_Angeles:20150901T190000
DTEND;TZID=America/Los_Angeles:20150901T200000
DTSTAMP:20260424T155353
CREATED:20150808T220954Z
LAST-MODIFIED:20150808T220954Z
UID:711-1441134000-1441137600@www.abiquaheights.com
SUMMARY:ARC Meeting
DESCRIPTION:September ARC meeting
URL:https://www.abiquaheights.com/event/arc-meeting-12/
LOCATION:OR
CATEGORIES:ARC Meetings
END:VEVENT
BEGIN:VEVENT
DTSTART;TZID=America/Los_Angeles:20150817T190000
DTEND;TZID=America/Los_Angeles:20150817T200000
DTSTAMP:20260424T155353
CREATED:20150813T040322Z
LAST-MODIFIED:20150813T040322Z
UID:717-1439838000-1439841600@www.abiquaheights.com
SUMMARY:Meet Prograss
DESCRIPTION:Please join us in the Commons on Monday August 17\, 2015 @ 7:00 PM.
URL:https://www.abiquaheights.com/event/meet-prograss/
LOCATION:Commons
CATEGORIES:Board Meetings
END:VEVENT
BEGIN:VEVENT
DTSTART;TZID=America/Los_Angeles:20150803T190000
DTEND;TZID=America/Los_Angeles:20150803T200000
DTSTAMP:20260424T155353
CREATED:20150730T031010Z
LAST-MODIFIED:20150730T031010Z
UID:708-1438628400-1438632000@www.abiquaheights.com
SUMMARY:Special Meeting
DESCRIPTION:Special Members Meeting meeting August 3 @ 7:00 pm. \nIn the Commons.
URL:https://www.abiquaheights.com/event/special-meeting-2/
LOCATION:Commons
CATEGORIES:Board Meetings
END:VEVENT
BEGIN:VEVENT
DTSTART;TZID=America/Los_Angeles:20150803T190000
DTEND;TZID=America/Los_Angeles:20150803T200000
DTSTAMP:20260424T155353
CREATED:20150730T025640Z
LAST-MODIFIED:20150730T025640Z
UID:702-1438628400-1438632000@www.abiquaheights.com
SUMMARY:ARC Meeting
DESCRIPTION:August ARC meeting
URL:https://www.abiquaheights.com/event/arc-meeting-11/
LOCATION:560 Tillicum Dr.\, 560 Tillicum Dr.\, Silverton\, OR\, 97381\, United States
CATEGORIES:ARC Meetings
END:VEVENT
BEGIN:VEVENT
DTSTART;TZID=America/Los_Angeles:20150723T190000
DTEND;TZID=America/Los_Angeles:20150723T210000
DTSTAMP:20260424T155353
CREATED:20150618T194100Z
LAST-MODIFIED:20150714T033954Z
UID:673-1437678000-1437685200@www.abiquaheights.com
SUMMARY:Board Meeting
DESCRIPTION:Board of Directors meeting July 23 @ 7:00 pm. \nIn the Commons if weather permits\,\notherwise at the Silverton Senior Center.
URL:https://www.abiquaheights.com/event/board-meeting-9/
LOCATION:Commons
CATEGORIES:Board Meetings
END:VEVENT
BEGIN:VEVENT
DTSTART;TZID=America/Los_Angeles:20150609T190000
DTEND;TZID=America/Los_Angeles:20150609T210000
DTSTAMP:20260424T155353
CREATED:20150603T200438Z
LAST-MODIFIED:20150603T200438Z
UID:647-1433876400-1433883600@www.abiquaheights.com
SUMMARY:Board Meeting
DESCRIPTION:Board of Directors meeting June 9 @ 7:00 pm.
URL:https://www.abiquaheights.com/event/board-meeting-8/
LOCATION:Silverton Senior Center\,  115 Westfield Street\, Silverton\, OR\, 97381\, United States
CATEGORIES:Board Meetings
END:VEVENT
BEGIN:VEVENT
DTSTART;TZID=America/Los_Angeles:20150601T190000
DTEND;TZID=America/Los_Angeles:20150601T200000
DTSTAMP:20260424T155353
CREATED:20150522T182309Z
LAST-MODIFIED:20150526T194315Z
UID:635-1433185200-1433188800@www.abiquaheights.com
SUMMARY:ARC Meeting
DESCRIPTION:June ARC meeting
URL:https://www.abiquaheights.com/event/arc-meeting-10/
LOCATION:535 Tillicum Dr.\, 535 Tillicum Dr.\, Silverton\, 97381\, United States
END:VEVENT
BEGIN:VEVENT
DTSTART;TZID=America/Los_Angeles:20150512T190000
DTEND;TZID=America/Los_Angeles:20150512T210000
DTSTAMP:20260424T155353
CREATED:20150503T155408Z
LAST-MODIFIED:20150503T155453Z
UID:627-1431457200-1431464400@www.abiquaheights.com
SUMMARY:Board Meeting
DESCRIPTION:Board of Directors meeting May 12 @ 7:00 pm.
URL:https://www.abiquaheights.com/event/board-meeting-7/
LOCATION:Silverton Senior Center\,  115 Westfield Street\, Silverton\, OR\, 97381\, United States
CATEGORIES:Board Meetings
END:VEVENT
END:VCALENDAR