BEGIN:VCALENDAR
VERSION:2.0
PRODID:-//Abiqua Heights - ECPv6.15.20//NONSGML v1.0//EN
CALSCALE:GREGORIAN
METHOD:PUBLISH
X-WR-CALNAME:Abiqua Heights
X-ORIGINAL-URL:https://www.abiquaheights.com
X-WR-CALDESC:Events for Abiqua Heights
REFRESH-INTERVAL;VALUE=DURATION:PT1H
X-Robots-Tag:noindex
X-PUBLISHED-TTL:PT1H
BEGIN:VTIMEZONE
TZID:America/Los_Angeles
BEGIN:DAYLIGHT
TZOFFSETFROM:-0800
TZOFFSETTO:-0700
TZNAME:PDT
DTSTART:20150308T100000
END:DAYLIGHT
BEGIN:STANDARD
TZOFFSETFROM:-0700
TZOFFSETTO:-0800
TZNAME:PST
DTSTART:20151101T090000
END:STANDARD
BEGIN:DAYLIGHT
TZOFFSETFROM:-0800
TZOFFSETTO:-0700
TZNAME:PDT
DTSTART:20160313T100000
END:DAYLIGHT
BEGIN:STANDARD
TZOFFSETFROM:-0700
TZOFFSETTO:-0800
TZNAME:PST
DTSTART:20161106T090000
END:STANDARD
BEGIN:DAYLIGHT
TZOFFSETFROM:-0800
TZOFFSETTO:-0700
TZNAME:PDT
DTSTART:20170312T100000
END:DAYLIGHT
BEGIN:STANDARD
TZOFFSETFROM:-0700
TZOFFSETTO:-0800
TZNAME:PST
DTSTART:20171105T090000
END:STANDARD
BEGIN:DAYLIGHT
TZOFFSETFROM:-0800
TZOFFSETTO:-0700
TZNAME:PDT
DTSTART:20180311T100000
END:DAYLIGHT
BEGIN:STANDARD
TZOFFSETFROM:-0700
TZOFFSETTO:-0800
TZNAME:PST
DTSTART:20181104T090000
END:STANDARD
END:VTIMEZONE
BEGIN:VEVENT
DTSTART;TZID=America/Los_Angeles:20170713T190000
DTEND;TZID=America/Los_Angeles:20170713T200000
DTSTAMP:20260424T122144
CREATED:20170620T024431Z
LAST-MODIFIED:20170620T024431Z
UID:1609-1499972400-1499976000@www.abiquaheights.com
SUMMARY:AHHA Board Meeting - July 13\, 2017
DESCRIPTION:AHHA Board Meeting at 7:00 PM in the Commons (weather permitting).  Please bring a lawn chair.
URL:https://www.abiquaheights.com/event/ahha-board-meeting-july-13-2017/
END:VEVENT
BEGIN:VEVENT
DTSTART;TZID=America/Los_Angeles:20170710T190000
DTEND;TZID=America/Los_Angeles:20170710T200000
DTSTAMP:20260424T122144
CREATED:20170608T072215Z
LAST-MODIFIED:20170608T072215Z
UID:1593-1499713200-1499716800@www.abiquaheights.com
SUMMARY:ARC Meeting - July 2017
DESCRIPTION:The ARC will meet at 7:00 PM at 535 Tillicum Drive.
URL:https://www.abiquaheights.com/event/arc-meeting-july-2017/
END:VEVENT
BEGIN:VEVENT
DTSTART;TZID=America/Los_Angeles:20170710T180000
DTEND;TZID=America/Los_Angeles:20170710T190000
DTSTAMP:20260424T122144
CREATED:20170620T024201Z
LAST-MODIFIED:20170620T024201Z
UID:1605-1499709600-1499713200@www.abiquaheights.com
SUMMARY:Amenities Committee Meeting - July 2017
DESCRIPTION:Amenities Committee meeting at 6:00 PM\, 540 Tillicum Drive.
URL:https://www.abiquaheights.com/event/amenities-committee-meeting-july-2017/
END:VEVENT
BEGIN:VEVENT
DTSTART;TZID=America/Los_Angeles:20170708T110000
DTEND;TZID=America/Los_Angeles:20170708T170000
DTSTAMP:20260424T122144
CREATED:20170620T023907Z
LAST-MODIFIED:20170620T023907Z
UID:1602-1499511600-1499533200@www.abiquaheights.com
SUMMARY:Commons Use - Birthday Party
DESCRIPTION:Birthday for five year old.
URL:https://www.abiquaheights.com/event/commons-use-birthday-party-2/
END:VEVENT
BEGIN:VEVENT
DTSTART;TZID=America/Los_Angeles:20170704T190000
DTEND;TZID=America/Los_Angeles:20170704T203000
DTSTAMP:20260424T122144
CREATED:20170517T060922Z
LAST-MODIFIED:20170517T060922Z
UID:1566-1499194800-1499200200@www.abiquaheights.com
SUMMARY:Commons Use - 4th of July Celebration - Ice Cream
DESCRIPTION:Ice Cream in the Commons at 7:00 PM.
URL:https://www.abiquaheights.com/event/commons-use-4th-of-july-celebration-ice-cream/
END:VEVENT
BEGIN:VEVENT
DTSTART;TZID=America/Los_Angeles:20170625T080000
DTEND;TZID=America/Los_Angeles:20170625T170000
DTSTAMP:20260424T122144
CREATED:20170517T060516Z
LAST-MODIFIED:20170517T060516Z
UID:1564-1498377600-1498410000@www.abiquaheights.com
SUMMARY:Commons Use - Birthday Party
DESCRIPTION:1st Birthday Party
URL:https://www.abiquaheights.com/event/commons-use-birthday-party/
END:VEVENT
BEGIN:VEVENT
DTSTART;TZID=America/Los_Angeles:20170613T170000
DTEND;TZID=America/Los_Angeles:20170613T210000
DTSTAMP:20260424T122144
CREATED:20170608T225909Z
LAST-MODIFIED:20170608T225909Z
UID:1595-1497373200-1497387600@www.abiquaheights.com
SUMMARY:Commons Use - End of Year Soccer Party
DESCRIPTION:End of the year party for soccer team.
URL:https://www.abiquaheights.com/event/commons-use-end-of-year-soccer-party-2/
END:VEVENT
BEGIN:VEVENT
DTSTART;TZID=America/Los_Angeles:20170611T163000
DTEND;TZID=America/Los_Angeles:20170611T203000
DTSTAMP:20260424T122144
CREATED:20170523T040637Z
LAST-MODIFIED:20170523T040637Z
UID:1578-1497198600-1497213000@www.abiquaheights.com
SUMMARY:Commons Use - End of Year Soccer Party
DESCRIPTION:Soccer team end of the year party.
URL:https://www.abiquaheights.com/event/commons-use-end-of-year-soccer-party/
END:VEVENT
BEGIN:VEVENT
DTSTART;TZID=America/Los_Angeles:20170608T190000
DTEND;TZID=America/Los_Angeles:20170608T200000
DTSTAMP:20260424T122144
CREATED:20170513T062653Z
LAST-MODIFIED:20170513T062653Z
UID:1560-1496948400-1496952000@www.abiquaheights.com
SUMMARY:June 2017 AHHA Board Meeting
DESCRIPTION:AHHA Board Meeting – Silverton Senior Center\, June 8\, 2017\, 7:00 PM. \nMembers are welcome.
URL:https://www.abiquaheights.com/event/june-2017-ahha-board-meeting/
END:VEVENT
BEGIN:VEVENT
DTSTART;TZID=America/Los_Angeles:20170606T180000
DTEND;TZID=America/Los_Angeles:20170606T190000
DTSTAMP:20260424T122144
CREATED:20170513T062429Z
LAST-MODIFIED:20170513T062429Z
UID:1558-1496772000-1496775600@www.abiquaheights.com
SUMMARY:Amenities Committee Meeting - June 2017
DESCRIPTION:The Amenities Committee will meet at 6:00 PM at 540 Tillicum Drive.
URL:https://www.abiquaheights.com/event/amenities-committee-meeting-june-2017/
END:VEVENT
BEGIN:VEVENT
DTSTART;TZID=America/Los_Angeles:20170605T190000
DTEND;TZID=America/Los_Angeles:20170605T200000
DTSTAMP:20260424T122144
CREATED:20170513T062140Z
LAST-MODIFIED:20170513T062153Z
UID:1555-1496689200-1496692800@www.abiquaheights.com
SUMMARY:ARC Meeting - June 2017
DESCRIPTION:The ARC will meet at 7:00 PM at 535 Tillicum Drive.
URL:https://www.abiquaheights.com/event/arf-meeting-june-2017/
END:VEVENT
BEGIN:VEVENT
DTSTART;TZID=America/Los_Angeles:20170528T130000
DTEND;TZID=America/Los_Angeles:20170528T203000
DTSTAMP:20260424T122144
CREATED:20170520T010456Z
LAST-MODIFIED:20170527T061408Z
UID:1570-1495976400-1496003400@www.abiquaheights.com
SUMMARY:Commons Use - Family Party
DESCRIPTION:Family Laser Tag Party
URL:https://www.abiquaheights.com/event/family-party/
END:VEVENT
BEGIN:VEVENT
DTSTART;TZID=America/Los_Angeles:20170501T190000
DTEND;TZID=America/Los_Angeles:20170501T200000
DTSTAMP:20260424T122144
CREATED:20170412T034122Z
LAST-MODIFIED:20170412T034122Z
UID:1523-1493665200-1493668800@www.abiquaheights.com
SUMMARY:ARC Meeting - May 2017
DESCRIPTION:The ARC will meet at 7:00 PM at 535 Tillicum Drive.
URL:https://www.abiquaheights.com/event/arc-meeting-may-2017/
END:VEVENT
BEGIN:VEVENT
DTSTART;TZID=America/Los_Angeles:20170413T190000
DTEND;TZID=America/Los_Angeles:20170413T210000
DTSTAMP:20260424T122144
CREATED:20170325T044043Z
LAST-MODIFIED:20170325T044043Z
UID:1498-1492110000-1492117200@www.abiquaheights.com
SUMMARY:April 2017 AHHA Board Meeting
DESCRIPTION:
URL:https://www.abiquaheights.com/event/april-2017-ahha-board-meeting/
LOCATION:Silverton Senior Center\,  115 Westfield Street\, Silverton\, OR\, 97381\, United States
END:VEVENT
BEGIN:VEVENT
DTSTART;TZID=America/Los_Angeles:20170410T190000
DTEND;TZID=America/Los_Angeles:20170410T200000
DTSTAMP:20260424T122144
CREATED:20170314T045829Z
LAST-MODIFIED:20170314T050220Z
UID:1466-1491850800-1491854400@www.abiquaheights.com
SUMMARY:ARC Meeting - April 2017
DESCRIPTION:Architectural Review Committee meeting\, April 10 at 7:00 PM at 535 Tillicum Drive.
URL:https://www.abiquaheights.com/event/arc-meeting-20/
END:VEVENT
BEGIN:VEVENT
DTSTART;TZID=America/Los_Angeles:20170408T100000
DTEND;TZID=America/Los_Angeles:20170408T140000
DTSTAMP:20260424T122144
CREATED:20170325T044420Z
LAST-MODIFIED:20170325T044420Z
UID:1500-1491645600-1491660000@www.abiquaheights.com
SUMMARY:Community Prepare Fair
DESCRIPTION:Community emergency preparedness event.
URL:https://www.abiquaheights.com/event/community-prepare-fair/
LOCATION:North Salem Hign School
END:VEVENT
BEGIN:VEVENT
DTSTART;TZID=America/Los_Angeles:20170309T190000
DTEND;TZID=America/Los_Angeles:20170309T203000
DTSTAMP:20260424T122144
CREATED:20170225T053722Z
LAST-MODIFIED:20170225T053722Z
UID:1305-1489086000-1489091400@www.abiquaheights.com
SUMMARY:March 2017 AHHA Board Meeting
DESCRIPTION:AHHA Board Meeting – Silverton Senior Center\, March 9\, 2017\, 7:00 PM. \nMembers are welcome.
URL:https://www.abiquaheights.com/event/march-2017-ahha-board-meeting/
CATEGORIES:Board Meetings
END:VEVENT
BEGIN:VEVENT
DTSTART;TZID=America/Los_Angeles:20170307T180000
DTEND;TZID=America/Los_Angeles:20170307T200000
DTSTAMP:20260424T122144
CREATED:20170225T053355Z
LAST-MODIFIED:20170225T053355Z
UID:1303-1488909600-1488916800@www.abiquaheights.com
SUMMARY:AHHA Board Planning Meeting
DESCRIPTION:AHHA Board Planning Meeting – Silverton Senior Center 6: PM \nNo items will be considered for a vote.
URL:https://www.abiquaheights.com/event/ahha-board-planning-meeting/
CATEGORIES:Board Meetings
END:VEVENT
BEGIN:VEVENT
DTSTART;TZID=America/Los_Angeles:20170306T190000
DTEND;TZID=America/Los_Angeles:20170306T200000
DTSTAMP:20260424T122144
CREATED:20160720T022936Z
LAST-MODIFIED:20170225T052911Z
UID:1032-1488826800-1488830400@www.abiquaheights.com
SUMMARY:March 2017 ARC Meeting
DESCRIPTION:Next ARC meeting is March 6\, 2017 at 7:00 pm at 535 Tillicum Drive.
URL:https://www.abiquaheights.com/event/august-2016-arc-meeting/
CATEGORIES:ARC Meetings
END:VEVENT
BEGIN:VEVENT
DTSTART;TZID=America/Los_Angeles:20170228T180000
DTEND;TZID=America/Los_Angeles:20170228T193000
DTSTAMP:20260424T122144
CREATED:20170223T064520Z
LAST-MODIFIED:20170228T041027Z
UID:1291-1488304800-1488310200@www.abiquaheights.com
SUMMARY:Amenities Committee Meeting 2017
DESCRIPTION:The first Amenities Committee Meeting of 2017 is Tuesday\, February 28 at 540 Tillicum Drive.  The meeting starts at 6:00 PM and all members of the community are welcome.
URL:https://www.abiquaheights.com/event/amenities-committee-meeting-2017/
CATEGORIES:Amenities Committee
END:VEVENT
BEGIN:VEVENT
DTSTART;TZID=America/Los_Angeles:20160711T190000
DTEND;TZID=America/Los_Angeles:20160711T200000
DTSTAMP:20260424T122144
CREATED:20160614T034528Z
LAST-MODIFIED:20160614T034636Z
UID:1008-1468263600-1468267200@www.abiquaheights.com
SUMMARY:ARC Meeting
DESCRIPTION:July ARC meeting
URL:https://www.abiquaheights.com/event/arc-meeting-19/
LOCATION:1220 Skookum Dr.\, 1220 Skookum Dr.\, Silverton\, OR\, 97381\, United States
CATEGORIES:ARC Meetings
END:VEVENT
BEGIN:VEVENT
DTSTART;TZID=America/Los_Angeles:20160606T190000
DTEND;TZID=America/Los_Angeles:20160606T200000
DTSTAMP:20260424T122144
CREATED:20160512T230101Z
LAST-MODIFIED:20160512T230101Z
UID:966-1465239600-1465243200@www.abiquaheights.com
SUMMARY:ARC Meeting
DESCRIPTION:June ARC Meeting
URL:https://www.abiquaheights.com/event/arc-meeting-18/
LOCATION:775 Shelokum Dr.\, 775 Shelokum Dr.\, Silverton\, OR\, 97381\, United States
CATEGORIES:ARC Meetings
END:VEVENT
BEGIN:VEVENT
DTSTART;TZID=America/Los_Angeles:20160512T190000
DTEND;TZID=America/Los_Angeles:20160512T200000
DTSTAMP:20260424T122144
CREATED:20160427T033739Z
LAST-MODIFIED:20160427T033739Z
UID:948-1463079600-1463083200@www.abiquaheights.com
SUMMARY:Board Meeting
DESCRIPTION:Thursday\, May 12th\, @ 7 PM at the Silverton Senior Center.
URL:https://www.abiquaheights.com/event/board-meeting-18/
LOCATION:Silverton Senior Center\,  115 Westfield Street\, Silverton\, OR\, 97381\, United States
CATEGORIES:Board Meetings
END:VEVENT
BEGIN:VEVENT
DTSTART;TZID=America/Los_Angeles:20160504T183000
DTEND;TZID=America/Los_Angeles:20160504T200000
DTSTAMP:20260424T122144
CREATED:20160430T041530Z
LAST-MODIFIED:20160430T041530Z
UID:955-1462386600-1462392000@www.abiquaheights.com
SUMMARY:Amenities Committee
DESCRIPTION:May meeting
URL:https://www.abiquaheights.com/event/amenities-committee-2/
LOCATION:Silverton Senior Center\,  115 Westfield Street\, Silverton\, OR\, 97381\, United States
CATEGORIES:Amenities Committee
END:VEVENT
BEGIN:VEVENT
DTSTART;TZID=America/Los_Angeles:20160502T190000
DTEND;TZID=America/Los_Angeles:20160502T200000
DTSTAMP:20260424T122144
CREATED:20160406T040801Z
LAST-MODIFIED:20160406T040801Z
UID:918-1462215600-1462219200@www.abiquaheights.com
SUMMARY:ARC Meeting
DESCRIPTION:May ARC Meeting
URL:https://www.abiquaheights.com/event/arc-meeting-17/
LOCATION:560 Tillicum Dr.\, 560 Tillicum Dr.\, Silverton\, OR\, 97381\, United States
CATEGORIES:ARC Meetings
END:VEVENT
BEGIN:VEVENT
DTSTART;TZID=America/Los_Angeles:20160414T190000
DTEND;TZID=America/Los_Angeles:20160414T200000
DTSTAMP:20260424T122144
CREATED:20160324T040942Z
LAST-MODIFIED:20160324T040942Z
UID:904-1460660400-1460664000@www.abiquaheights.com
SUMMARY:Board Meeting
DESCRIPTION:Thursday\, April 14th\, @ 7 PM at the Silverton Senior Center.
URL:https://www.abiquaheights.com/event/board-meeting-17/
LOCATION:Silverton Senior Center\,  115 Westfield Street\, Silverton\, OR\, 97381\, United States
CATEGORIES:Board Meetings
END:VEVENT
BEGIN:VEVENT
DTSTART;TZID=America/Los_Angeles:20160411T183000
DTEND;TZID=America/Los_Angeles:20160411T200000
DTSTAMP:20260424T122144
CREATED:20160406T040334Z
LAST-MODIFIED:20160406T040334Z
UID:917-1460399400-1460404800@www.abiquaheights.com
SUMMARY:Amenities Committee
DESCRIPTION:April 11th\, 2016\, Silverton Senior Center\, 6:30 PM
URL:https://www.abiquaheights.com/event/amenities-committee/
LOCATION:Silverton Senior Center\,  115 Westfield Street\, Silverton\, OR\, 97381\, United States
CATEGORIES:Amenities Committee
END:VEVENT
BEGIN:VEVENT
DTSTART;TZID=America/Los_Angeles:20160407T190000
DTEND;TZID=America/Los_Angeles:20160407T200000
DTSTAMP:20260424T122144
CREATED:20160403T141759Z
LAST-MODIFIED:20160403T141759Z
UID:913-1460055600-1460059200@www.abiquaheights.com
SUMMARY:Board Planning Meeting
DESCRIPTION:The AHHA Board will hold a planning meeting 4/7/16 @ 7 PM. The meeting will be held at the Silverton Senior Center\, 115 Westfield Street.
URL:https://www.abiquaheights.com/event/board-planning-meeting-3/
LOCATION:Silverton Senior Center\,  115 Westfield Street\, Silverton\, OR\, 97381\, United States
CATEGORIES:Board Meetings
ATTACH;FMTTYPE=image/jpeg:https://www.abiquaheights.com/wp-content/uploads/2014/04/5521062797_40ebb39939_o.jpg
END:VEVENT
BEGIN:VEVENT
DTSTART;TZID=America/Los_Angeles:20160310T190000
DTEND;TZID=America/Los_Angeles:20160310T200000
DTSTAMP:20260424T122144
CREATED:20160301T034703Z
LAST-MODIFIED:20160301T034703Z
UID:883-1457636400-1457640000@www.abiquaheights.com
SUMMARY:Board Meeting
DESCRIPTION:Thursday\, March 10th\, @ 7 PM at the Silverton Senior Center.
URL:https://www.abiquaheights.com/event/board-meeting-16/
LOCATION:Silverton Senior Center\,  115 Westfield Street\, Silverton\, OR\, 97381\, United States
CATEGORIES:Board Meetings
END:VEVENT
BEGIN:VEVENT
DTSTART;TZID=America/Los_Angeles:20160307T190000
DTEND;TZID=America/Los_Angeles:20160307T200000
DTSTAMP:20260424T122144
CREATED:20160215T164518Z
LAST-MODIFIED:20160215T164518Z
UID:862-1457377200-1457380800@www.abiquaheights.com
SUMMARY:ARC Meeting
DESCRIPTION:March ARC Meeting
URL:https://www.abiquaheights.com/event/arc-meeting-16/
LOCATION:535 Tillicum Dr.\, 535 Tillicum Dr.\, Silverton\, 97381\, United States
CATEGORIES:ARC Meetings
END:VEVENT
END:VCALENDAR